BEGIN:VCALENDAR
VERSION:2.0
PRODID:-//eventon.com NONSGML v1.0//EN
CALSCALE:GREGORIAN
METHOD:PUBLISH
BEGIN:VEVENT
UID:69eb13f8f00cb
DTSTAMP:20260424T065552Z
DTSTART:20260905T130000Z
DTEND:20260905T210000Z
LOCATION:Corbin Arena 500 Arena Drive Corbin\,  KY 40701
SUMMARY:Corbin Con
DESCRIPTION:Corbin Con is bringing a full day of pop culture fun to town\, 
  but this time at the Corbin Arena! &nbsp;Attendees can browse an exciting 
 mix of comics\,  trading cards\,  collectibles\,  vintage and modern toys\,
   artwork\,  books\,  and more\,  all in one lively space. With a coffee tr
 uck and concessions[..]\nhttps://corbinkytourism.com/events/corbin-con-2/
URL:https://corbinkytourism.com/events/corbin-con-2/
END:VEVENT
END:VCALENDAR