BEGIN:VCALENDAR
VERSION:2.0
PRODID:-//eventon.com NONSGML v1.0//EN
CALSCALE:GREGORIAN
METHOD:PUBLISH
BEGIN:VEVENT
UID:69eb12fa5ae61
DTSTAMP:20260424T065138Z
DTSTART:20260821T233000Z
DTEND:20260822T035900Z
LOCATION:Corbin Arena 500 Arena Drive Corbin\,  KY 40701
SUMMARY:Travis Tritt with Special Guest Dillon Carmichael
DESCRIPTION:Established country singer Travis Tritt has delivered a healthy
  dose of mainstream country with Southern rock influence to ticket holders 
 nationwide since his 1990 arrival with the double-platinum debut “Country
  Club.” The only hat-less country star of that era (consider his counterp
 arts Garth Brooks\,  Clint Black and Alan Jackson\,  for[..]\nhttps://corbi
 nkytourism.com/events/travis-tritt-with-special-guest-dillon-carmichael/
URL:https://corbinkytourism.com/events/travis-tritt-with-special-guest-dillon-carmichael/
END:VEVENT
END:VCALENDAR