BEGIN:VCALENDAR
VERSION:2.0
PRODID:-//eventon.com NONSGML v1.0//EN
CALSCALE:GREGORIAN
METHOD:PUBLISH
BEGIN:VEVENT
UID:69eb13b6887c8
DTSTAMP:20260424T065446Z
DTSTART:20260725T233000Z
DTEND:20260726T035900Z
LOCATION:Corbin Arena 500 Arena Drive Corbin\,  KY 40701
SUMMARY:Little Mania Midget Wrestling
DESCRIPTION:This isn’t your average wrestling show — this is Little Man
 ia Midget Wrestling All-Stars. As seen on truTV\,  we’re the #1 midget wr
 estling show in America — and for good reason. While the others play it s
 afe\,  we push the limits. We bring hard-hitting action\,  wild comedy\,  b
 ig characters\,  and[..]\nhttps://corbinkytourism.com/events/little-mania-m
 idget-wrestling/
URL:https://corbinkytourism.com/events/little-mania-midget-wrestling/
END:VEVENT
END:VCALENDAR