BEGIN:VCALENDAR
VERSION:2.0
PRODID:-//eventon.com NONSGML v1.0//EN
CALSCALE:GREGORIAN
METHOD:PUBLISH
BEGIN:VEVENT
UID:69eb10c40ed18
DTSTAMP:20260424T064212Z
DTSTART:20260717T233000Z
DTEND:20260718T035900Z
LOCATION:Corbin Arena 500 Arena Drive Corbin\,  KY 40701
SUMMARY:LAUREN DAIGLE
DESCRIPTION:Christian contemporary singer-songwriter Lauren Daigle has anno
 unced a 2026 tourstop at Corbin Arena for Friday\,  July 17 at 7:30 p.m. Th
 e event is presented by Big SpringEntertainment and tickets go on sale Frid
 ay\,  April 24 at 10 a.m. local time via Ticketmaster.com. Lauren Daigle is
  a two-time Grammy®\,  seven-time Billboard[..]\nhttps://corbinkytourism.c
 om/events/lauren-daigle/
URL:https://corbinkytourism.com/events/lauren-daigle/
END:VEVENT
END:VCALENDAR