BEGIN:VCALENDAR
VERSION:2.0
PRODID:-//eventon.com NONSGML v1.0//EN
CALSCALE:GREGORIAN
METHOD:PUBLISH
BEGIN:VEVENT
UID:69eb1422ab33b
DTSTAMP:20260424T065634Z
DTSTART:20260425T003000Z
DTEND:20260425T035900Z
LOCATION:Kenny&#039;s: The Other Rogers 4672 5th Street Rd.
SUMMARY:Benefit Night at Kenny's
DESCRIPTION:Come join a great line up of musicians to support raising aware
 ness and money for Burkitts Lymphoma. Tickets are $10\,  there will be a ra
 ffle drawing at 10:30. Come support a great cause with local artists!  To 
 learn more\,  you can visit Kenny's Facebook page or visit Kenny's website.
 \nhttps://corbinkytourism.com/events/benefit-night-at-kennys/
URL:https://corbinkytourism.com/events/benefit-night-at-kennys/
END:VEVENT
END:VCALENDAR