BEGIN:VCALENDAR
VERSION:2.0
PRODID:-//eventon.com NONSGML v1.0//EN
CALSCALE:GREGORIAN
METHOD:PUBLISH
BEGIN:VEVENT
UID:69eb126b51bf4
DTSTAMP:20260424T064915Z
DTSTART:20260509T230000Z
DTEND:20260510T035900Z
LOCATION:Kenny&#039;s: The Other Rogers 4672 5th Street Rd.
SUMMARY:Appalachian Songwriters' Night
DESCRIPTION:Spend an evening soaking in the sounds of Appalachian storytell
 ing as Brayden Mullins and Eric Bolander take the stage at Kenny's: The Oth
 er Place. This laid-back night of live music highlights the heart and soul 
 of Kentucky songwriting\,  with performances full of rich lyrics\,  local f
 lavor\,  and unforgettable melodies. General[..]\nhttps://corbinkytourism.c
 om/events/appalachian-songwriters-night/
URL:https://corbinkytourism.com/events/appalachian-songwriters-night/
END:VEVENT
END:VCALENDAR