BEGIN:VCALENDAR
VERSION:2.0
PRODID:-//eventon.com NONSGML v1.0//EN
CALSCALE:GREGORIAN
METHOD:PUBLISH
BEGIN:VEVENT
UID:69eb14224b885
DTSTAMP:20260424T065634Z
DTSTART:20260410T190000Z
DTEND:20260411T220000Z
LOCATION:Downtown Corbin
SUMMARY:Colonel Fest 2026
DESCRIPTION:The goatee is thawing\,  the spices have been picked\,  and chi
 ckens everywhere are planning a vacation. That can only mean one thing. Col
 onel Fest 2026 is coming to Downtown Corbin on April 10th and 11th. This tw
 o day celebration will feature vendors\,  food\,  music\,  and more as we b
 ring the[..]\nhttps://corbinkytourism.com/events/colonel-fest-2026/
URL:https://corbinkytourism.com/events/colonel-fest-2026/
END:VEVENT
END:VCALENDAR