BEGIN:VCALENDAR
VERSION:2.0
PRODID:-//eventon.com NONSGML v1.0//EN
CALSCALE:GREGORIAN
METHOD:PUBLISH
BEGIN:VEVENT
UID:69eb9f8a7ad12
DTSTAMP:20260424T165122Z
DTSTART:20241208T000000Z
DTEND:20241208T020000Z
LOCATION:Nibroc Park 108 S. Main St\,  Corbin\,  KY 40701
SUMMARY:Corbin Christmas Parade
DESCRIPTION:Pre-parade activities start at 5pm in Nibroc Park with children
 ’s activities\,  pictures with Santa\,  free hot chocolate and crafts. Pa
 rade starts at 7pm and route will be from 18th street to Gordon Hill on Mai
 n\nhttps://corbinkytourism.com/events/corbin-christmas-parade-5/
URL:https://corbinkytourism.com/events/corbin-christmas-parade-5/
END:VEVENT
END:VCALENDAR