BEGIN:VCALENDAR
VERSION:2.0
PRODID:-//eventon.com NONSGML v1.0//EN
CALSCALE:GREGORIAN
METHOD:PUBLISH
BEGIN:VEVENT
UID:69eadbeecf070
DTSTAMP:20260424T025646Z
DTSTART:20230902T120000Z
DTEND:20230902T150000Z
LOCATION:
SUMMARY:Keep Corbin Clean Community Clean Up
DESCRIPTION:Join us for an end of summer community wide clean up effort! Vo
 lunteers will be provided with clean up supplies. There will be t-shirts fo
 r the first 100 to register\,  door prizes and free lunch! Groups and organ
 izations are welcome! For more info please call 606-528-8860\nhttps://corb
 inkytourism.com/events/keep-corbin-clean-community-clean-up/
URL:https://corbinkytourism.com/events/keep-corbin-clean-community-clean-up/
END:VEVENT
END:VCALENDAR