BEGIN:VCALENDAR
VERSION:2.0
PRODID:-//eventon.com NONSGML v1.0//EN
CALSCALE:GREGORIAN
METHOD:PUBLISH
BEGIN:VEVENT
UID:69eb984412740
DTSTAMP:20260424T162020Z
DTSTART:20220811T122500Z
DTEND:20220813T122500Z
LOCATION:Downtown Corbin
SUMMARY:70th Annual NIBROC Festival
DESCRIPTION:Three days of fun\,  family and friends on Main Street in Downt
 own Corbin. NIBROC is a community- wide event\,  with activities planned to
  allow participation by all age groups\,  young and old. Traditional events
  include a 2K Run/Walk; Miss NIBROC Scholarship Pageant; a variety of enter
 tainment; contests and games for[..]\nhttps://corbinkytourism.com/events/70
 th-annual-nibroc-festival/
URL:https://corbinkytourism.com/events/70th-annual-nibroc-festival/
END:VEVENT
END:VCALENDAR