BEGIN:VCALENDAR
VERSION:2.0
PRODID:-//eventon.com NONSGML v1.0//EN
CALSCALE:GREGORIAN
METHOD:PUBLISH
BEGIN:VEVENT
UID:69ebdc2ee2c94
DTSTAMP:20260424T211006Z
DTSTART:20210424T140000Z
DTEND:20210424T220000Z
LOCATION:Main Street Downtown Corbin
SUMMARY:Colonel Fest
DESCRIPTION:A community wide festival that celebrated Colonel Sanders! Ther
 e will be craft vendors\,  kids games\,  a Best Fried Chicken contest\,  a 
 fried chicken eating contest\,  stage entertainment and more! For more info
 rmation\,  contact Corbin Tourism at 606-528-8860\nhttps://corbinkytourism.
 com/events/colonel-fest/
URL:https://corbinkytourism.com/events/colonel-fest/
END:VEVENT
END:VCALENDAR