BEGIN:VCALENDAR
VERSION:2.0
PRODID:-//eventon.com NONSGML v1.0//EN
CALSCALE:GREGORIAN
METHOD:PUBLISH
BEGIN:VEVENT
UID:69eb3987c65c0
DTSTAMP:20260424T093607Z
DTSTART:20210607
DTEND:20210608
LOCATION:
SUMMARY:Corbin Burger Week
DESCRIPTION:All week long is a chance for locals and visitors alike to samp
 le some of the best burgers within the city limits of Corbin as part of a c
 ity-wide celebration. We'll give big love to burgers at locally owned resta
 urants within city limits\,  with each participating restaurant offering th
 eir own[..]\nhttps://corbinkytourism.com/events/corbin-burger-week/
URL:https://corbinkytourism.com/events/corbin-burger-week/
END:VEVENT
END:VCALENDAR